BEGIN:VCALENDAR
VERSION:2.0
PRODID:-//eventon.com NONSGML v1.0//EN
CALSCALE:GREGORIAN
METHOD:PUBLISH
BEGIN:VEVENT
UID:69e71c0d783a6
DTSTAMP:20260421T064117Z
DTSTART:20201121T100000Z
DTEND:20201121T170000Z
LOCATION:
SUMMARY:Te Awamutu Ribbon Day
DESCRIPTION:Te Awamutu Ribbon Day is on Saturday 21st November from 10:00am
 \nhttps://athleticswaikatobayofplenty.org.nz/events/te-awamutu-ribbon-day/
URL:https://athleticswaikatobayofplenty.org.nz/events/te-awamutu-ribbon-day/
END:VEVENT
END:VCALENDAR