BEGIN:VCALENDAR
VERSION:2.0
PRODID:-//eventon.com NONSGML v1.0//EN
CALSCALE:GREGORIAN
METHOD:PUBLISH
BEGIN:VEVENT
UID:69e5f71e2c886
DTSTAMP:20260420T095126Z
DTSTART:20261108
DTEND:20261109
LOCATION:Tauranga - Mount Maunganui
SUMMARY:City to Surf
DESCRIPTION:More event info: City to Surf &#8211; Event Promotions\nhttps:/
 /athleticswaikatobayofplenty.org.nz/events/city-to-surf/
URL:https://athleticswaikatobayofplenty.org.nz/events/city-to-surf/
END:VEVENT
END:VCALENDAR