BEGIN:VCALENDAR
VERSION:2.0
PRODID:-//eventon.com NONSGML v1.0//EN
CALSCALE:GREGORIAN
METHOD:PUBLISH
BEGIN:VEVENT
UID:69e5fa1b6c181
DTSTAMP:20260420T100411Z
DTSTART:20260829
DTEND:20260830
LOCATION:Mount Maunganui
SUMMARY:Mount Maunganui Half Marathon
DESCRIPTION:More event info: https://www.mountmaunganuihalfmarathon.co.nz/\
 nhttps://athleticswaikatobayofplenty.org.nz/events/mount-maunganui-half-mar
 athon/
URL:https://athleticswaikatobayofplenty.org.nz/events/mount-maunganui-half-marathon/
END:VEVENT
END:VCALENDAR