BEGIN:VCALENDAR
VERSION:2.0
PRODID:-//eventon.com NONSGML v1.0//EN
CALSCALE:GREGORIAN
METHOD:PUBLISH
BEGIN:VEVENT
UID:69e5e13423df1
DTSTAMP:20260420T081756Z
DTSTART:20260718
DTEND:20260719
LOCATION:Ōhope\,  Whakatane
SUMMARY:Whakatāne Bush Half Marathon
DESCRIPTION:All event info: Bush Half Marathon &#8211; WHAKATANE ATHLETICS 
 AND HARRIRERS\nhttps://athleticswaikatobayofplenty.org.nz/events/whakatane-
 bush-half-marathon-3/
URL:https://athleticswaikatobayofplenty.org.nz/events/whakatane-bush-half-marathon-3/
END:VEVENT
END:VCALENDAR