BEGIN:VCALENDAR
VERSION:2.0
PRODID:-//eventon.com NONSGML v1.0//EN
CALSCALE:GREGORIAN
METHOD:PUBLISH
BEGIN:VEVENT
UID:69e916493633a
DTSTAMP:20260422T184113Z
DTSTART:20260523
DTEND:20260524
LOCATION:Whakamaru Mi-Camp\,  South Waikato
SUMMARY:The Taniwha
DESCRIPTION:All event Info: https://www.thetaniwha.co.nz/\nhttps://athletic
 swaikatobayofplenty.org.nz/events/the-taniwha/
URL:https://athleticswaikatobayofplenty.org.nz/events/the-taniwha/
END:VEVENT
END:VCALENDAR