BEGIN:VCALENDAR
VERSION:2.0
PRODID:-//eventon.com NONSGML v1.0//EN
CALSCALE:GREGORIAN
METHOD:PUBLISH
BEGIN:VEVENT
UID:69e5502d58510
DTSTAMP:20260419T215909Z
DTSTART:20250510
DTEND:20250511
LOCATION:AUT Millenium Stadium 17 Antares Place\,  Rosedale
SUMMARY:2025 NZ 24-Hour Championships
DESCRIPTION:For event information click on this link\nhttps://athleticswaik
 atobayofplenty.org.nz/events/2025-nz-24-hour-championships/
URL:https://athleticswaikatobayofplenty.org.nz/events/2025-nz-24-hour-championships/
END:VEVENT
END:VCALENDAR