BEGIN:VCALENDAR
VERSION:2.0
PRODID:-//eventon.com NONSGML v1.0//EN
CALSCALE:GREGORIAN
METHOD:PUBLISH
BEGIN:VEVENT
UID:69e6345ab8afa
DTSTAMP:20260420T141242Z
DTSTART:20250413T080000Z
DTEND:20250413T130000Z
LOCATION:Christchurch
SUMMARY:2025 New Zealand Senior Marathon Championships - Christchurch
DESCRIPTION:For event information click here\nhttps://athleticswaikatobayof
 plenty.org.nz/events/2025-new-zealand-senior-marathon-championships-christc
 hurch/
URL:https://athleticswaikatobayofplenty.org.nz/events/2025-new-zealand-senior-marathon-championships-christchurch/
END:VEVENT
END:VCALENDAR