BEGIN:VCALENDAR
VERSION:2.0
PRODID:-//eventon.com NONSGML v1.0//EN
CALSCALE:GREGORIAN
METHOD:PUBLISH
BEGIN:VEVENT
UID:69e6a441a7295
DTSTAMP:20260420T221009Z
DTSTART:20241109T090000Z
DTEND:20241110T150000Z
LOCATION:Tauranga Domain 91 Cameron Road
SUMMARY:Waikato Bay of Plenty Officials Courses - C Grade Course
DESCRIPTION:Become an Official &#8211; A/B/C grade Athletics is a dynamic s
 port that thrives on the contributions of individuals from various roles\, 
  including athletes\,  coaches\,  administrators (at the club\,  center\,  
 and national levels)\,  and officials. As an official\,  you&#8217;ll play 
 a vital role in helping athletes perform at their best and[..]\nhttps://ath
 leticswaikatobayofplenty.org.nz/events/waikato-bay-of-plenty-officials-cour
 ses-2/
URL:https://athleticswaikatobayofplenty.org.nz/events/waikato-bay-of-plenty-officials-courses-2/
END:VEVENT
END:VCALENDAR