BEGIN:VCALENDAR
VERSION:2.0
PRODID:-//eventon.com NONSGML v1.0//EN
CALSCALE:GREGORIAN
METHOD:PUBLISH
BEGIN:VEVENT
UID:69e5f76f905a0
DTSTAMP:20260420T095247Z
DTSTART:20240922T000000Z
DTEND:20240922T030000Z
LOCATION:Tauranga Domain 91 Cameron Road
SUMMARY:Masters Oceania Throws Pentathlon Challenge
DESCRIPTION:Masters Oceania Throws Pentathlon Challenge is being held at Ta
 uranga Domain. Event information can be found here \nhttps://athleticswaik
 atobayofplenty.org.nz/events/masters-oceania-throws-pentathlon-challenge/
URL:https://athleticswaikatobayofplenty.org.nz/events/masters-oceania-throws-pentathlon-challenge/
END:VEVENT
END:VCALENDAR