BEGIN:VCALENDAR
VERSION:2.0
PRODID:-//eventon.com NONSGML v1.0//EN
CALSCALE:GREGORIAN
METHOD:PUBLISH
BEGIN:VEVENT
UID:69e635c1390d5
DTSTAMP:20260420T141841Z
DTSTART:20240802T210000Z
DTEND:20240804T050000Z
LOCATION:Mission Estate Winery Church Road
SUMMARY:2024 Athletics New Zealand Cross Country Championships and 2024 New Zealand Cross Country Relay Championships - Mission Estate Winery\,  Napier
DESCRIPTION:Athletics New Zealand Cross Country Championships and New Zeala
 nd Cross Country Relay Championships &#8211; Mission Estate Winery\,  Napie
 r Saturday 3 August and Sunday 4th August More event details can be found a
 t the Athletics New Zealand website here\nhttps://athleticswaikatobayofplen
 ty.org.nz/events/2024-athletics-new-zealand-cross-country-championships-and
 -2024-new-zealand-cross-country-relay-championships-mission-estate-winery-n
 apier/
URL:https://athleticswaikatobayofplenty.org.nz/events/2024-athletics-new-zealand-cross-country-championships-and-2024-new-zealand-cross-country-relay-championships-mission-estate-winery-napier/
END:VEVENT
END:VCALENDAR