BEGIN:VCALENDAR
VERSION:2.0
PRODID:-//eventon.com NONSGML v1.0//EN
CALSCALE:GREGORIAN
METHOD:PUBLISH
BEGIN:VEVENT
UID:69e6356faa44c
DTSTAMP:20260420T141719Z
DTSTART:20240201
DTEND:20240301
LOCATION:Porritt Stadium\,  Hamilton
SUMMARY:Porritt Classic – National Permit Meet
DESCRIPTION:The Porritt Classic will be held on Saturday 10th February at P
 orritt Stadium\,  Crosby Road\,  Hamilton. RESULTS ARE NOW ON THIS LINK Por
 ritt Classic Awards for 2024 &#8211; click here to view START LIST IS NOW A
 VAILABLE ON THIS LINK  &#8211; updated 8th Feb A Final Programme of events
  is[..]\nhttps://athleticswaikatobayofplenty.org.nz/events/porritt-classic-
 national-permit-meet/
URL:https://athleticswaikatobayofplenty.org.nz/events/porritt-classic-national-permit-meet/
END:VEVENT
END:VCALENDAR