BEGIN:VCALENDAR
VERSION:2.0
PRODID:-//eventon.com NONSGML v1.0//EN
CALSCALE:GREGORIAN
METHOD:PUBLISH
BEGIN:VEVENT
UID:69e6d2228ee4a
DTSTAMP:20260421T012554Z
DTSTART:20231216T023000Z
DTEND:20231216T093000Z
LOCATION:AUT Millenium Stadium 17 Antares Place\,  Rosedale
SUMMARY:Bay's Night Of 5s - National Permit Meet
DESCRIPTION:Venue: AUT Millennium Stadium\,  North Shore For further inform
 ation click here once link is live\nhttps://athleticswaikatobayofplenty.org
 .nz/events/daikin-night-of-5s/
URL:https://athleticswaikatobayofplenty.org.nz/events/daikin-night-of-5s/
END:VEVENT
END:VCALENDAR