BEGIN:VCALENDAR
VERSION:2.0
PRODID:-//eventon.com NONSGML v1.0//EN
CALSCALE:GREGORIAN
METHOD:PUBLISH
BEGIN:VEVENT
UID:69e4dcdc7c28c
DTSTAMP:20260419T134708Z
DTSTART:20231118T020000Z
DTEND:20231118T043000Z
LOCATION:Tauranga
SUMMARY:Open Meeting - Tauranga Domain
DESCRIPTION:Online entries can be made hereÂ  No entries on the day.Â  Entr
 ies close Thursday 16th November 11.59pm &nbsp; OPEN MEETINGÂ Â Â Â Â Â Â Â
  Â Â Â Â Â Â Â Â  Tauranga DomainÂ Â Â Â Â Â Â Â  Â Â Â Â Â Â Â Â Â Â Â Â Â
  Â Â Â Â Â Â Â Â Â Â Â Â Â Â Â Â Saturday 18thÂ  November TRACKÂ  Â  Â  Â  
 Â  Â  Â  Â  Â  Â  Â  Â  Â  Â  Â  Â  Â  Â  Â  Â  Â  Â  Â  Â  Â [..]\nhttps:/
 /athleticswaikatobayofplenty.org.nz/events/open-meeting-tauranga-domain-5/
URL:https://athleticswaikatobayofplenty.org.nz/events/open-meeting-tauranga-domain-5/
END:VEVENT
END:VCALENDAR